BEGIN:VCALENDAR
VERSION:2.0
PRODID:-//dhtmlXScheduler//NONSGML v2.2//EN
X-WR-CALNAME:Wydarzenia
BEGIN:VEVENT
DTSTART:20231128T000000
DTEND:20260423T003800
UID:0
SUMMARY:Do 28 listopada czekamy na zgłoszenia do II edycji Programu Tutorskiego UwB
END:VEVENT
END:VCALENDAR